Package: DOtools Version: 1.1.0 Command: /home/biocbuild/bbs-3.23-bioc/R/bin/R CMD build --keep-empty-dirs --no-resave-data DOtools StartedAt: 2025-11-14 17:23:00 -0500 (Fri, 14 Nov 2025) EndedAt: 2025-11-14 17:27:02 -0500 (Fri, 14 Nov 2025) EllapsedTime: 242.2 seconds RetCode: 0 Status: OK PackageFile: DOtools_1.1.0.tar.gz PackageFileSize: 4.762 MiB