Package: DOtools Version: 1.1.0 Command: /Library/Frameworks/R.framework/Resources/bin/R CMD INSTALL DOtools StartedAt: 2025-11-14 15:30:13 -0500 (Fri, 14 Nov 2025) EndedAt: 2025-11-14 15:30:34 -0500 (Fri, 14 Nov 2025) EllapsedTime: 20.6 seconds RetCode: 0 Status: OK