Package: DOtools Version: 1.1.0 Command: /Library/Frameworks/R.framework/Resources/bin/R CMD build --keep-empty-dirs --no-resave-data DOtools StartedAt: 2025-11-13 16:16:43 -0500 (Thu, 13 Nov 2025) EndedAt: 2025-11-13 16:18:30 -0500 (Thu, 13 Nov 2025) EllapsedTime: 107.1 seconds RetCode: 1 Status: ERROR PackageFile: None PackageFileSize: NA