Package: DOSE Version: 4.5.0 Command: /Library/Frameworks/R.framework/Resources/bin/R CMD INSTALL DOSE StartedAt: 2025-11-21 15:22:42 -0500 (Fri, 21 Nov 2025) EndedAt: 2025-11-21 15:22:53 -0500 (Fri, 21 Nov 2025) EllapsedTime: 10.5 seconds RetCode: 0 Status: OK