Package: DOSE Version: 4.5.0 Command: /Library/Frameworks/R.framework/Resources/bin/R CMD build --keep-empty-dirs --no-resave-data DOSE StartedAt: 2025-11-23 16:14:25 -0500 (Sun, 23 Nov 2025) EndedAt: 2025-11-23 16:14:40 -0500 (Sun, 23 Nov 2025) EllapsedTime: 15.2 seconds RetCode: 0 Status: OK PackageFile: DOSE_4.5.0.tar.gz PackageFileSize: 5.479 MiB