Package: DOSE Version: 4.5.0 Command: rm -rf DOSE.buildbin-libdir && mkdir DOSE.buildbin-libdir && /Users/biocbuild/BBS/utils/build-universal.sh DOSE_4.5.0.tar.gz /Library/Frameworks/R.framework/Resources/bin/R DOSE.buildbin-libdir StartedAt: 2025-11-23 23:34:00 -0500 (Sun, 23 Nov 2025) EndedAt: 2025-11-23 23:34:12 -0500 (Sun, 23 Nov 2025) EllapsedTime: 12.3 seconds RetCode: 0 Status: OK PackageFile: DOSE_4.5.0.tgz PackageFileSize: 5.863 MiB