Package: DNAshapeR Version: 1.39.0 Command: /home/biocbuild/bbs-3.23-bioc/R/bin/R CMD build --keep-empty-dirs --no-resave-data DNAshapeR StartedAt: 2025-11-14 17:21:26 -0500 (Fri, 14 Nov 2025) EndedAt: 2025-11-14 17:22:30 -0500 (Fri, 14 Nov 2025) EllapsedTime: 64.0 seconds RetCode: 0 Status: OK PackageFile: DNAshapeR_1.39.0.tar.gz PackageFileSize: 1.098 MiB