Package: DNAshapeR Version: 1.39.0 Command: /Library/Frameworks/R.framework/Resources/bin/R CMD INSTALL DNAshapeR StartedAt: 2025-11-14 15:11:25 -0500 (Fri, 14 Nov 2025) EndedAt: 2025-11-14 15:11:37 -0500 (Fri, 14 Nov 2025) EllapsedTime: 12.0 seconds RetCode: 0 Status: OK