Package: DNAshapeR Version: 1.39.0 Command: /Library/Frameworks/R.framework/Resources/bin/R CMD build --keep-empty-dirs --no-resave-data DNAshapeR StartedAt: 2025-11-13 16:15:53 -0500 (Thu, 13 Nov 2025) EndedAt: 2025-11-13 16:16:17 -0500 (Thu, 13 Nov 2025) EllapsedTime: 24.3 seconds RetCode: 0 Status: OK PackageFile: DNAshapeR_1.39.0.tar.gz PackageFileSize: 1.138 MiB