Package: DNAshapeR Version: 1.39.0 Command: rm -rf DNAshapeR.buildbin-libdir && mkdir DNAshapeR.buildbin-libdir && /Users/biocbuild/BBS/utils/build-universal.sh DNAshapeR_1.39.0.tar.gz /Library/Frameworks/R.framework/Resources/bin/R DNAshapeR.buildbin-libdir StartedAt: 2025-11-13 23:35:52 -0500 (Thu, 13 Nov 2025) EndedAt: 2025-11-13 23:36:08 -0500 (Thu, 13 Nov 2025) EllapsedTime: 16.3 seconds RetCode: 0 Status: OK PackageFile: DNAshapeR_1.39.0.tgz PackageFileSize: 1.296 MiB