Package: DNAfusion Version: 1.13.0 Command: /home/biocbuild/bbs-3.23-bioc/R/bin/R CMD INSTALL DNAfusion StartedAt: 2025-11-11 15:49:29 -0500 (Tue, 11 Nov 2025) EndedAt: 2025-11-11 15:50:01 -0500 (Tue, 11 Nov 2025) EllapsedTime: 32.8 seconds RetCode: 0 Status: OK