Package: DNAfusion Version: 1.13.0 Command: /Library/Frameworks/R.framework/Resources/bin/R CMD INSTALL DNAfusion StartedAt: 2025-11-13 15:24:36 -0500 (Thu, 13 Nov 2025) EndedAt: 2025-11-13 15:24:50 -0500 (Thu, 13 Nov 2025) EllapsedTime: 13.7 seconds RetCode: 0 Status: OK