Package: DNAfusion Version: 1.13.0 Command: rm -rf DNAfusion.buildbin-libdir && mkdir DNAfusion.buildbin-libdir && /Users/biocbuild/BBS/utils/build-universal.sh DNAfusion_1.13.0.tar.gz /Library/Frameworks/R.framework/Resources/bin/R DNAfusion.buildbin-libdir StartedAt: 2025-11-13 23:35:52 -0500 (Thu, 13 Nov 2025) EndedAt: 2025-11-13 23:36:09 -0500 (Thu, 13 Nov 2025) EllapsedTime: 17.4 seconds RetCode: 0 Status: OK PackageFile: DNAfusion_1.13.0.tgz PackageFileSize: 6.317 MiB