Package: DNAfusion Version: 1.13.0 Maintainer: Christoffer Trier Maansson MaintainerEmail: ctm at clin.au.dk git_url: https://git.bioconductor.org/packages/DNAfusion git_branch: devel git_last_commit: a0e0c9e git_last_commit_date: 2025-10-29 11:19:47 -0500 (Wed, 29 Oct 2025)