Package: DNAcycP2 Version: 1.3.0 Command: /home/biocbuild/bbs-3.23-bioc/R/bin/R CMD INSTALL DNAcycP2 StartedAt: 2025-11-14 15:12:12 -0500 (Fri, 14 Nov 2025) EndedAt: 2025-11-14 15:12:22 -0500 (Fri, 14 Nov 2025) EllapsedTime: 9.4 seconds RetCode: 0 Status: OK