Package: DNAcycP2 Version: 1.3.0 Command: /home/biocbuild/bbs-3.23-bioc/R/bin/R CMD build --keep-empty-dirs --no-resave-data DNAcycP2 StartedAt: 2025-11-14 17:21:16 -0500 (Fri, 14 Nov 2025) EndedAt: 2025-11-14 17:22:41 -0500 (Fri, 14 Nov 2025) EllapsedTime: 85.1 seconds RetCode: 0 Status: OK PackageFile: DNAcycP2_1.3.0.tar.gz PackageFileSize: 2.316 MiB