Package: DNAcycP2 Version: 1.3.0 Command: /Library/Frameworks/R.framework/Resources/bin/R CMD INSTALL DNAcycP2 StartedAt: 2025-11-12 15:20:59 -0500 (Wed, 12 Nov 2025) EndedAt: 2025-11-12 15:21:03 -0500 (Wed, 12 Nov 2025) EllapsedTime: 3.8 seconds RetCode: 0 Status: OK