Package: DNAcycP2 Version: 1.3.0 Command: /Library/Frameworks/R.framework/Resources/bin/R CMD build --keep-empty-dirs --no-resave-data DNAcycP2 StartedAt: 2025-11-12 16:09:56 -0500 (Wed, 12 Nov 2025) EndedAt: 2025-11-12 16:11:29 -0500 (Wed, 12 Nov 2025) EllapsedTime: 93.1 seconds RetCode: 1 Status: ERROR PackageFile: None PackageFileSize: NA