Package: DNAcycP2 Version: 1.3.0 Maintainer: Ji-Ping Wang MaintainerEmail: jzwang at northwestern.edu git_url: https://git.bioconductor.org/packages/DNAcycP2 git_branch: devel git_last_commit: 98b41bd git_last_commit_date: 2025-10-29 11:35:02 -0500 (Wed, 29 Oct 2025)