Package: DNABarcodes Version: 1.41.0 Command: /home/biocbuild/bbs-3.23-bioc/R/bin/R CMD INSTALL DNABarcodes StartedAt: 2025-11-11 15:09:01 -0500 (Tue, 11 Nov 2025) EndedAt: 2025-11-11 15:10:22 -0500 (Tue, 11 Nov 2025) EllapsedTime: 81.1 seconds RetCode: 0 Status: OK