Package: DNABarcodes Version: 1.41.0 Command: /home/biocbuild/bbs-3.23-bioc/R/bin/R CMD build --keep-empty-dirs --no-resave-data DNABarcodes StartedAt: 2025-11-13 17:20:33 -0500 (Thu, 13 Nov 2025) EndedAt: 2025-11-13 17:21:55 -0500 (Thu, 13 Nov 2025) EllapsedTime: 82.0 seconds RetCode: 0 Status: OK PackageFile: DNABarcodes_1.41.0.tar.gz PackageFileSize: 347.8 KiB