Package: DNABarcodes Version: 1.41.0 Command: /Library/Frameworks/R.framework/Resources/bin/R CMD build --keep-empty-dirs --no-resave-data DNABarcodes StartedAt: 2025-11-13 16:15:34 -0500 (Thu, 13 Nov 2025) EndedAt: 2025-11-13 16:16:00 -0500 (Thu, 13 Nov 2025) EllapsedTime: 26.3 seconds RetCode: 0 Status: OK PackageFile: DNABarcodes_1.41.0.tar.gz PackageFileSize: 347.9 KiB