Package: DNABarcodes Version: 1.41.0 Command: rm -rf DNABarcodes.buildbin-libdir && mkdir DNABarcodes.buildbin-libdir && /Users/biocbuild/BBS/utils/build-universal.sh DNABarcodes_1.41.0.tar.gz /Library/Frameworks/R.framework/Resources/bin/R DNABarcodes.buildbin-libdir StartedAt: 2025-11-13 23:35:50 -0500 (Thu, 13 Nov 2025) EndedAt: 2025-11-13 23:36:15 -0500 (Thu, 13 Nov 2025) EllapsedTime: 24.6 seconds RetCode: 0 Status: OK PackageFile: DNABarcodes_1.41.0.tgz PackageFileSize: 480.3 KiB