Package: DNABarcodes Version: 1.41.0 Maintainer: Tilo Buschmann MaintainerEmail: tilo.buschmann.ac at gmail.com git_url: https://git.bioconductor.org/packages/DNABarcodes git_branch: devel git_last_commit: 0458254 git_last_commit_date: 2025-10-29 11:31:39 -0500 (Wed, 29 Oct 2025)