Package: DNABarcodeCompatibility Version: 1.27.0 Command: /home/biocbuild/bbs-3.23-bioc/R/bin/R CMD INSTALL DNABarcodeCompatibility StartedAt: 2025-11-13 15:09:03 -0500 (Thu, 13 Nov 2025) EndedAt: 2025-11-13 15:09:44 -0500 (Thu, 13 Nov 2025) EllapsedTime: 40.5 seconds RetCode: 0 Status: OK