Package: DNABarcodeCompatibility Version: 1.27.0 Command: /home/biocbuild/bbs-3.23-bioc/R/bin/R CMD build --keep-empty-dirs --no-resave-data DNABarcodeCompatibility StartedAt: 2025-11-13 17:20:31 -0500 (Thu, 13 Nov 2025) EndedAt: 2025-11-13 17:21:42 -0500 (Thu, 13 Nov 2025) EllapsedTime: 71.0 seconds RetCode: 0 Status: OK PackageFile: DNABarcodeCompatibility_1.27.0.tar.gz PackageFileSize: 260.1 KiB