Package: DNABarcodeCompatibility Version: 1.27.0 Command: /Library/Frameworks/R.framework/Resources/bin/R CMD INSTALL DNABarcodeCompatibility StartedAt: 2025-11-12 15:19:47 -0500 (Wed, 12 Nov 2025) EndedAt: 2025-11-12 15:19:57 -0500 (Wed, 12 Nov 2025) EllapsedTime: 9.7 seconds RetCode: 0 Status: OK