Package: DNABarcodeCompatibility Version: 1.27.0 Command: /Library/Frameworks/R.framework/Resources/bin/R CMD build --keep-empty-dirs --no-resave-data DNABarcodeCompatibility StartedAt: 2025-11-13 16:15:26 -0500 (Thu, 13 Nov 2025) EndedAt: 2025-11-13 16:15:49 -0500 (Thu, 13 Nov 2025) EllapsedTime: 22.3 seconds RetCode: 0 Status: OK PackageFile: DNABarcodeCompatibility_1.27.0.tar.gz PackageFileSize: 260.4 KiB