Package: DNABarcodeCompatibility Version: 1.27.0 Command: rm -rf DNABarcodeCompatibility.buildbin-libdir && mkdir DNABarcodeCompatibility.buildbin-libdir && /Users/biocbuild/BBS/utils/build-universal.sh DNABarcodeCompatibility_1.27.0.tar.gz /Library/Frameworks/R.framework/Resources/bin/R DNABarcodeCompatibility.buildbin-libdir StartedAt: 2025-11-13 23:35:49 -0500 (Thu, 13 Nov 2025) EndedAt: 2025-11-13 23:36:01 -0500 (Thu, 13 Nov 2025) EllapsedTime: 12.3 seconds RetCode: 0 Status: OK PackageFile: DNABarcodeCompatibility_1.27.0.tgz PackageFileSize: 388.2 KiB