Package: DNABarcodeCompatibility Version: 1.27.0 Maintainer: Céline Trébeau MaintainerEmail: ctrebeau at pasteur.fr git_url: https://git.bioconductor.org/packages/DNABarcodeCompatibility git_branch: devel git_last_commit: 0fc748e git_last_commit_date: 2025-10-29 10:49:09 -0500 (Wed, 29 Oct 2025)