Package: DMRScan Version: 1.33.0 Command: /home/biocbuild/bbs-3.23-bioc/R/bin/R CMD INSTALL DMRScan StartedAt: 2025-11-13 15:23:51 -0500 (Thu, 13 Nov 2025) EndedAt: 2025-11-13 15:24:05 -0500 (Thu, 13 Nov 2025) EllapsedTime: 13.5 seconds RetCode: 0 Status: OK