Package: DMRScan Version: 1.33.0 Command: /home/biocbuild/bbs-3.23-bioc/R/bin/R CMD build --keep-empty-dirs --no-resave-data DMRScan StartedAt: 2025-11-11 17:22:57 -0500 (Tue, 11 Nov 2025) EndedAt: 2025-11-11 17:24:26 -0500 (Tue, 11 Nov 2025) EllapsedTime: 89.1 seconds RetCode: 0 Status: OK PackageFile: DMRScan_1.33.0.tar.gz PackageFileSize: 3.346 MiB