Package: DMRScan Version: 1.33.0 Command: /Library/Frameworks/R.framework/Resources/bin/R CMD INSTALL DMRScan StartedAt: 2025-11-13 15:11:02 -0500 (Thu, 13 Nov 2025) EndedAt: 2025-11-13 15:11:07 -0500 (Thu, 13 Nov 2025) EllapsedTime: 5.6 seconds RetCode: 0 Status: OK