Package: DMRScan Version: 1.33.0 Command: /Library/Frameworks/R.framework/Resources/bin/R CMD build --keep-empty-dirs --no-resave-data DMRScan StartedAt: 2025-11-12 16:09:30 -0500 (Wed, 12 Nov 2025) EndedAt: 2025-11-12 16:09:59 -0500 (Wed, 12 Nov 2025) EllapsedTime: 29.3 seconds RetCode: 0 Status: OK PackageFile: DMRScan_1.33.0.tar.gz PackageFileSize: 3.346 MiB