Package: DMRScan Version: 1.33.0 Maintainer: Christian M Page MaintainerEmail: page.ntnu at gmail.com git_url: https://git.bioconductor.org/packages/DMRScan git_branch: devel git_last_commit: 66ea55e git_last_commit_date: 2025-10-29 10:36:23 -0500 (Wed, 29 Oct 2025)