Package: DMCHMM Version: 1.33.0 Command: /home/biocbuild/bbs-3.23-bioc/R/bin/R CMD INSTALL DMCHMM StartedAt: 2025-11-14 15:28:39 -0500 (Fri, 14 Nov 2025) EndedAt: 2025-11-14 15:29:13 -0500 (Fri, 14 Nov 2025) EllapsedTime: 33.8 seconds RetCode: 0 Status: OK