Package: DMCHMM Version: 1.33.0 Command: /Library/Frameworks/R.framework/Resources/bin/R CMD build --keep-empty-dirs --no-resave-data DMCHMM StartedAt: 2025-11-13 16:14:53 -0500 (Thu, 13 Nov 2025) EndedAt: 2025-11-13 16:15:23 -0500 (Thu, 13 Nov 2025) EllapsedTime: 30.3 seconds RetCode: 0 Status: OK PackageFile: DMCHMM_1.33.0.tar.gz PackageFileSize: 743.6 KiB