Package: DMCHMM Version: 1.33.0 Maintainer: Farhad Shokoohi MaintainerEmail: shokoohi at icloud.com git_url: https://git.bioconductor.org/packages/DMCHMM git_branch: devel git_last_commit: 338f80e git_last_commit_date: 2025-10-29 10:40:26 -0500 (Wed, 29 Oct 2025)