Package: DFplyr Version: 1.5.0 Command: /home/biocbuild/bbs-3.23-bioc/R/bin/R CMD build --keep-empty-dirs --no-resave-data DFplyr StartedAt: 2025-11-13 17:16:57 -0500 (Thu, 13 Nov 2025) EndedAt: 2025-11-13 17:17:14 -0500 (Thu, 13 Nov 2025) EllapsedTime: 17.0 seconds RetCode: 0 Status: OK PackageFile: DFplyr_1.5.0.tar.gz PackageFileSize: 395.6 KiB