Package: DFplyr Version: 1.5.0 Command: /Library/Frameworks/R.framework/Resources/bin/R CMD INSTALL DFplyr StartedAt: 2025-11-13 15:06:43 -0500 (Thu, 13 Nov 2025) EndedAt: 2025-11-13 15:06:46 -0500 (Thu, 13 Nov 2025) EllapsedTime: 2.6 seconds RetCode: 0 Status: OK