Package: DFplyr Version: 1.5.0 Command: /Library/Frameworks/R.framework/Resources/bin/R CMD build --keep-empty-dirs --no-resave-data DFplyr StartedAt: 2025-11-13 16:12:57 -0500 (Thu, 13 Nov 2025) EndedAt: 2025-11-13 16:13:05 -0500 (Thu, 13 Nov 2025) EllapsedTime: 8.1 seconds RetCode: 0 Status: OK PackageFile: DFplyr_1.5.0.tar.gz PackageFileSize: 396.1 KiB