Package: DFplyr Version: 1.5.0 Command: rm -rf DFplyr.buildbin-libdir && mkdir DFplyr.buildbin-libdir && /Users/biocbuild/BBS/utils/build-universal.sh DFplyr_1.5.0.tar.gz /Library/Frameworks/R.framework/Resources/bin/R DFplyr.buildbin-libdir StartedAt: 2025-11-13 23:35:16 -0500 (Thu, 13 Nov 2025) EndedAt: 2025-11-13 23:35:21 -0500 (Thu, 13 Nov 2025) EllapsedTime: 5.1 seconds RetCode: 0 Status: OK PackageFile: DFplyr_1.5.0.tgz PackageFileSize: 597.1 KiB