Package: DFplyr Version: 1.5.0 Maintainer: Jonathan Carroll MaintainerEmail: rpkg at jcarroll.com.au git_url: https://git.bioconductor.org/packages/DFplyr git_branch: devel git_last_commit: 98a6c4d git_last_commit_date: 2025-10-29 11:32:58 -0500 (Wed, 29 Oct 2025)