Package: DFP Version: 1.69.0 Command: /home/biocbuild/bbs-3.23-bioc/R/bin/R CMD INSTALL DFP StartedAt: 2025-11-14 15:13:14 -0500 (Fri, 14 Nov 2025) EndedAt: 2025-11-14 15:13:19 -0500 (Fri, 14 Nov 2025) EllapsedTime: 4.3 seconds RetCode: 0 Status: OK