Package: DFP Version: 1.69.0 Command: /home/biocbuild/bbs-3.23-bioc/R/bin/R CMD build --keep-empty-dirs --no-resave-data DFP StartedAt: 2025-11-14 17:17:14 -0500 (Fri, 14 Nov 2025) EndedAt: 2025-11-14 17:17:23 -0500 (Fri, 14 Nov 2025) EllapsedTime: 9.0 seconds RetCode: 0 Status: OK PackageFile: DFP_1.69.0.tar.gz PackageFileSize: 497.2 KiB