Package: DFP Version: 1.69.0 Command: /Library/Frameworks/R.framework/Resources/bin/R CMD INSTALL DFP StartedAt: 2025-11-13 15:06:50 -0500 (Thu, 13 Nov 2025) EndedAt: 2025-11-13 15:06:52 -0500 (Thu, 13 Nov 2025) EllapsedTime: 1.7 seconds RetCode: 0 Status: OK