Package: DFP Version: 1.69.0 Command: /Library/Frameworks/R.framework/Resources/bin/R CMD build --keep-empty-dirs --no-resave-data DFP StartedAt: 2025-11-13 16:12:52 -0500 (Thu, 13 Nov 2025) EndedAt: 2025-11-13 16:12:57 -0500 (Thu, 13 Nov 2025) EllapsedTime: 5.1 seconds RetCode: 0 Status: OK PackageFile: DFP_1.69.0.tar.gz PackageFileSize: 497.3 KiB