Package: DFP Version: 1.69.0 Command: rm -rf DFP.buildbin-libdir && mkdir DFP.buildbin-libdir && /Users/biocbuild/BBS/utils/build-universal.sh DFP_1.69.0.tar.gz /Library/Frameworks/R.framework/Resources/bin/R DFP.buildbin-libdir StartedAt: 2025-11-14 23:30:20 -0500 (Fri, 14 Nov 2025) EndedAt: 2025-11-14 23:30:23 -0500 (Fri, 14 Nov 2025) EllapsedTime: 3.1 seconds RetCode: 0 Status: OK PackageFile: DFP_1.69.0.tgz PackageFileSize: 707.6 KiB