Package: DFP Version: 1.69.0 Maintainer: Rodrigo Alvarez-Glez MaintainerEmail: rodrigo.djv at uvigo.es git_url: https://git.bioconductor.org/packages/DFP git_branch: devel git_last_commit: 5d2534a git_last_commit_date: 2025-10-29 10:01:13 -0500 (Wed, 29 Oct 2025)