Package: DExMA Version: 1.19.0 Command: /home/biocbuild/bbs-3.23-bioc/R/bin/R CMD INSTALL DExMA StartedAt: 2025-11-14 15:34:43 -0500 (Fri, 14 Nov 2025) EndedAt: 2025-11-14 15:35:16 -0500 (Fri, 14 Nov 2025) EllapsedTime: 32.4 seconds RetCode: 0 Status: OK